BEGIN:VCALENDAR
VERSION:2.0
PRODID:-//Ciberseguridad EnorChile - ECPv6.13.2.1//NONSGML v1.0//EN
CALSCALE:GREGORIAN
METHOD:PUBLISH
X-ORIGINAL-URL:https://ciberseguridad.enorchile.com
X-WR-CALDESC:Eventos para Ciberseguridad EnorChile
REFRESH-INTERVAL;VALUE=DURATION:PT1H
X-Robots-Tag:noindex
X-PUBLISHED-TTL:PT1H
BEGIN:VTIMEZONE
TZID:America/Santiago
BEGIN:STANDARD
TZOFFSETFROM:-0300
TZOFFSETTO:-0400
TZNAME:-04
DTSTART:20240407T030000
END:STANDARD
BEGIN:DAYLIGHT
TZOFFSETFROM:-0400
TZOFFSETTO:-0300
TZNAME:-03
DTSTART:20240908T040000
END:DAYLIGHT
BEGIN:STANDARD
TZOFFSETFROM:-0300
TZOFFSETTO:-0400
TZNAME:-04
DTSTART:20250406T030000
END:STANDARD
BEGIN:DAYLIGHT
TZOFFSETFROM:-0400
TZOFFSETTO:-0300
TZNAME:-03
DTSTART:20250907T040000
END:DAYLIGHT
END:VTIMEZONE
BEGIN:VEVENT
DTSTART;TZID=America/Santiago:20250708T080000
DTEND;TZID=America/Santiago:20250708T170000
DTSTAMP:20260423T122654
CREATED:20250320T122622Z
LAST-MODIFIED:20250708T133023Z
UID:5257-1751961600-1751994000@ciberseguridad.enorchile.com
SUMMARY:Inscripción Programa de Capacitación USACH
DESCRIPTION:Como cada año\, el Equipo de Tecnología se inscribe para participar en distintos cursos del Programa de Capacitación de la USACH\, con el objetivo de fortalecer continuamente su postura frente a los desafíos de la ciberseguridad. En esta ocasión\, los integrantes del equipo se inscribieron en un curso\, los que abordan diversas temáticas del ámbito cibernético considerando que\, al tratarse de un entorno en constante evolución\, es fundamental mantener los conocimientos actualizados. \n    \nFuente:  https://diplomadociberseguridad.com/ \n  \n 
URL:https://ciberseguridad.enorchile.com/evento/inscripcion-programa-de-capacitacion-usach/
CATEGORIES:Capacitaciones,Publicaciones
ATTACH;FMTTYPE=image/png:https://ciberseguridad.enorchile.com/wp-content/uploads/2025/07/ImagenUSACH.png
END:VEVENT
BEGIN:VEVENT
DTSTART;TZID=America/Santiago:20250508T080000
DTEND;TZID=America/Santiago:20250508T170000
DTSTAMP:20260423T122654
CREATED:20250508T133840Z
LAST-MODIFIED:20250508T133840Z
UID:5210-1746691200-1746723600@ciberseguridad.enorchile.com
SUMMARY:Publicación Política de Seguridad Física
DESCRIPTION:El pasado miércoles 30 de abril se realiza la publicación de la Política de Seguridad Física a toda la organización. \n  \nPolítica de Seguridad Física \n  \n  \n  \n  \n 
URL:https://ciberseguridad.enorchile.com/evento/publicacion-politica-de-seguridad-fisica/
CATEGORIES:Publicaciones
ATTACH;FMTTYPE=image/jpeg:https://ciberseguridad.enorchile.com/wp-content/uploads/2025/05/Presentacion-sin-titulo-1.jpg
END:VEVENT
BEGIN:VEVENT
DTSTART;TZID=America/Santiago:20250301T080000
DTEND;TZID=America/Santiago:20250301T170000
DTSTAMP:20260423T122654
CREATED:20250305T134620Z
LAST-MODIFIED:20250305T134750Z
UID:5183-1740816000-1740848400@ciberseguridad.enorchile.com
SUMMARY:ANCI Publica en Diario Oficial Decretos Taxonomía de Incidentes y Reglamento de Reporte de Incidentes de Ciberseguridad
DESCRIPTION:Se publica en diario oficial el reglamento que define la reportabilidad de incidentes que deben realizar las empresa categorizadas como esenciales a la ANCI.  Además se publica  taxonomía de incidentes que deben ser reportados por las empresas mencionadas. \n  \nPara más información ver fuente: https://anci.gob.cl/noticias/obligacion-de-reportar/ 
URL:https://ciberseguridad.enorchile.com/evento/anci-publica-en-diario-oficial-decretos-taxonomia-de-incidentes-y-reglamento-de-reporte-de-incidentes-de-ciberseguridad/
END:VEVENT
BEGIN:VEVENT
DTSTART;TZID=America/Santiago:20241224T080000
DTEND;TZID=America/Santiago:20241224T080000
DTSTAMP:20260423T122654
CREATED:20241226T154105Z
LAST-MODIFIED:20241226T154704Z
UID:5157-1735027200-1735027200@ciberseguridad.enorchile.com
SUMMARY:Publicado en Diario Oficial Decreto de inicio actividades ANCI
DESCRIPTION:Publicado en Diario Oficial Decreto que fija a partir del 1 de enero de 2025 fecha de inicio de actividades de la Agencia Nacional de Ciberseguridad y el 1 de marzo de 2025 la entrada en vigencia de la norma que califica a los operadores de importancia vital\, notificación obligatoria de incidentes y el régimen sancionatorio.  Ver Publicación \n 
URL:https://ciberseguridad.enorchile.com/evento/publicado-en-diario-oficial-decreto-de-inicio-actividades-anci/
CATEGORIES:Publicaciones
ATTACH;FMTTYPE=image/png:https://ciberseguridad.enorchile.com/wp-content/uploads/2024/12/Diario-Oficial-ANCI.png
END:VEVENT
BEGIN:VEVENT
DTSTART;TZID=America/Santiago:20241213T080000
DTEND;TZID=America/Santiago:20241213T170000
DTSTAMP:20260423T122654
CREATED:20241213T154204Z
LAST-MODIFIED:20241213T154204Z
UID:5148-1734076800-1734109200@ciberseguridad.enorchile.com
SUMMARY:Publicación de Nueva Ley 21.719 Protección de Datos Personales
DESCRIPTION:Ley 21.719 Protección de Datos Personales \nSe publica nueva Ley de Protección de Datos Personales en el Diario Oficial\, por lo que a partir de ahora se deben crear los principales reglamentos e institucionalidades que la sustentan. Desde ahora\, comienza a correr un plazo de 24 meses para que la ley entre plenamente en vigencia. Este tiempo es clave para que empresas\, instituciones públicas y organizaciones se preparen. Ver en https://www.diariooficial.interior.gob.cl/politica/ \n  \n 
URL:https://ciberseguridad.enorchile.com/evento/publicacion-de-nueva-ley-21-719-proteccion-de-datos-personales/
CATEGORIES:Publicaciones
END:VEVENT
BEGIN:VEVENT
DTSTART;TZID=America/Santiago:20241204T080000
DTEND;TZID=America/Santiago:20241204T170000
DTSTAMP:20260423T122654
CREATED:20251104T122602Z
LAST-MODIFIED:20251222T173153Z
UID:5140-1733299200-1733331600@ciberseguridad.enorchile.com
SUMMARY:Octubre Mes de la Ciberseguridad: Inteligencia Artificial
DESCRIPTION:A propósito del mes de la ciberseguridad  se llevan a cabo diferentes presenta presentaciones enfocadas en la Inteligencia Artificial\, abordando diversos enfoques y dimensiones relacionados con el tema.  \n  \nCiberseguridad y Uso Responsable de la IA \n  \n \n  \nFraudes Potenciales Basados en IA \n  \n \n  \n  \nInteracción Humana con la IA \n  \n \n  \nLa IA: Retos y Estado Actual \n  \n \n  \nA continuación podrás ver los videos de las presentaciones: \nDia 1: Ciberseguridad y Uso Responsable de la IA \nDia 2: Fraudes Potenciales Basados en IA \nDia 3: Interacción humana con la IA \nDia 4: IA Estado Actual y Retos \n  \n  \n 
URL:https://ciberseguridad.enorchile.com/evento/octubre-mes-de-la-ciberseguridad-inteligencia-artificial/
CATEGORIES:Capacitaciones,Charlas,Publicaciones
ATTACH;FMTTYPE=image/jpeg:https://ciberseguridad.enorchile.com/wp-content/uploads/2024/08/Desventajas-IA.jpeg
END:VEVENT
BEGIN:VEVENT
DTSTART;TZID=America/Santiago:20240806T080000
DTEND;TZID=America/Santiago:20240806T170000
DTSTAMP:20260423T122654
CREATED:20240806T201436Z
LAST-MODIFIED:20240806T201504Z
UID:5084-1722931200-1722963600@ciberseguridad.enorchile.com
SUMMARY:Evento
DESCRIPTION:Evento
URL:https://ciberseguridad.enorchile.com/evento/evento/
END:VEVENT
BEGIN:VEVENT
DTSTART;TZID=America/Santiago:20240726T080000
DTEND;TZID=America/Santiago:20240726T170000
DTSTAMP:20260423T122654
CREATED:20240523T174354Z
LAST-MODIFIED:20250116T152947Z
UID:4837-1721980800-1722013200@ciberseguridad.enorchile.com
SUMMARY:Publicación Política de Ciberseguridad
DESCRIPTION:Se realiza la Publicación de la Política de Ciberseguridad de EnorChile\, la cual define los lineamientos de ciberseguridad para fortalecer la postura de la organización frente a eventuales ataques cibernéticos y la protección de la infraestructura tecnológica y operativa de la organización.
URL:https://ciberseguridad.enorchile.com/evento/publicacion-de-politica-de-ciberseguridad/
CATEGORIES:Publicaciones
END:VEVENT
BEGIN:VEVENT
DTSTART;TZID=America/Santiago:20240707T080000
DTEND;TZID=America/Santiago:20240707T170000
DTSTAMP:20260423T122654
CREATED:20240607T165324Z
LAST-MODIFIED:20240730T141541Z
UID:4965-1720339200-1720371600@ciberseguridad.enorchile.com
SUMMARY:Publicación Política de Contraseñas
DESCRIPTION:Publicaremos la Política de Contraseñas
URL:https://ciberseguridad.enorchile.com/evento/politica-de-contrasenas/
CATEGORIES:Publicaciones
END:VEVENT
BEGIN:VEVENT
DTSTART;TZID=America/Santiago:20240603T080000
DTEND;TZID=America/Santiago:20240603T170000
DTSTAMP:20260423T122654
CREATED:20240603T185023Z
LAST-MODIFIED:20240603T185023Z
UID:4953-1717401600-1717434000@ciberseguridad.enorchile.com
SUMMARY:Capacitación Ingeniería Social
DESCRIPTION:Se llevó a cabo la capacitación al personal de EnorChile respecto a las principales técnicas que utilizan los ciberdelincuentes para engañar a los usuarios. \nTemas \n\n¿Qué es la Ingeniería Social?.\nTécnicas Comunes de Ingeniería Social.\nCasos Reales y Análisis.\nCómo Proteger contra la Ingeniería Social.\nDebates y Preguntas.\nConclusión.
URL:https://ciberseguridad.enorchile.com/evento/capacitacion-ingenieria-social/
CATEGORIES:Capacitaciones
ATTACH;FMTTYPE=image/jpeg:https://ciberseguridad.enorchile.com/wp-content/uploads/2024/06/Ingenieria-Social-1.jpeg
END:VEVENT
BEGIN:VEVENT
DTSTART;TZID=America/Santiago:20240326T080000
DTEND;TZID=America/Santiago:20240326T170000
DTSTAMP:20260423T122654
CREATED:20240610T161058Z
LAST-MODIFIED:20240610T161128Z
UID:4985-1711440000-1711472400@ciberseguridad.enorchile.com
SUMMARY:Promulgación Ley 21663 - Ley Marco de Cibersegurdad
DESCRIPTION:Promulgación Ley Marco de Ciberseguridad que establece los lineamientos y estándares que regulan la industria de infraestructura crítica e instituciones públicas. \n  \n  \nFuente: Biblioteca del Congreso Nacional de Chile/BNC \nhttps://www.bcn.cl/leychile/navegar?idNorma=1202434
URL:https://ciberseguridad.enorchile.com/evento/promulgacion-de-ley-21663-ley-marco-de-cibersegurdad/
ATTACH;FMTTYPE=image/png:https://ciberseguridad.enorchile.com/wp-content/uploads/2024/06/Ley-Marco-Ciberseguridad.png
END:VEVENT
END:VCALENDAR